BEGIN:VCALENDAR
VERSION:2.0
PRODID:-//wp-events-plugin.com//7.2.1//EN
BEGIN:VEVENT
UID:50@alvkarlebygk.com
DTSTART;TZID=Europe/Stockholm:20250623T090000
DTEND;TZID=Europe/Stockholm:20250626T150000
DTSTAMP:20250515T093626Z
URL:https://alvkarlebygk.com/events/15162/
SUMMARY:Juniorläger 23 juni - 26 juni
DESCRIPTION:Missa inte sommarens roligaste läger!!\n\nMåndag 23 juni - to
 rsdag 26 juni\nTider måndag-onsdag 09:00 - 15:00\n\nTorsdag  09:00 - 13:
 00\nPris 1195 kr\nIngår: Träning varje dag\, lunch och mellanmål.
END:VEVENT
BEGIN:VTIMEZONE
TZID:Europe/Stockholm
X-LIC-LOCATION:Europe/Stockholm
BEGIN:DAYLIGHT
DTSTART:20250330T030000
TZOFFSETFROM:+0100
TZOFFSETTO:+0200
TZNAME:CEST
END:DAYLIGHT
END:VTIMEZONE
END:VCALENDAR